BEGIN:VCALENDAR
VERSION:2.0
PRODID:-// - ECPv6.15.20//NONSGML v1.0//EN
CALSCALE:GREGORIAN
METHOD:PUBLISH
X-ORIGINAL-URL:https://geordiehog.com
X-WR-CALDESC:Events for 
REFRESH-INTERVAL;VALUE=DURATION:PT1H
X-Robots-Tag:noindex
X-PUBLISHED-TTL:PT1H
BEGIN:VTIMEZONE
TZID:Europe/London
BEGIN:DAYLIGHT
TZOFFSETFROM:+0000
TZOFFSETTO:+0100
TZNAME:BST
DTSTART:20220327T010000
END:DAYLIGHT
BEGIN:STANDARD
TZOFFSETFROM:+0100
TZOFFSETTO:+0000
TZNAME:GMT
DTSTART:20221030T010000
END:STANDARD
BEGIN:DAYLIGHT
TZOFFSETFROM:+0000
TZOFFSETTO:+0100
TZNAME:BST
DTSTART:20230326T010000
END:DAYLIGHT
BEGIN:STANDARD
TZOFFSETFROM:+0100
TZOFFSETTO:+0000
TZNAME:GMT
DTSTART:20231029T010000
END:STANDARD
BEGIN:DAYLIGHT
TZOFFSETFROM:+0000
TZOFFSETTO:+0100
TZNAME:BST
DTSTART:20240331T010000
END:DAYLIGHT
BEGIN:STANDARD
TZOFFSETFROM:+0100
TZOFFSETTO:+0000
TZNAME:GMT
DTSTART:20241027T010000
END:STANDARD
END:VTIMEZONE
BEGIN:VEVENT
DTSTART;TZID=Europe/London:20230910T080000
DTEND;TZID=Europe/London:20230910T170000
DTSTAMP:20260422T140759
CREATED:20230503T093644Z
LAST-MODIFIED:20230503T093644Z
UID:7321-1694332800-1694365200@geordiehog.com
SUMMARY:Chapter ride - destination to be confirmed
DESCRIPTION:Chapter ride\, Ray and Ronnie leading.
URL:https://geordiehog.com/events/chapter-ride-destination-to-be-confirmed/
END:VEVENT
BEGIN:VEVENT
DTSTART;TZID=Europe/London:20230929T080000
DTEND;TZID=Europe/London:20231001T170000
DTSTAMP:20260422T140759
CREATED:20230503T093759Z
LAST-MODIFIED:20230503T093759Z
UID:7323-1695974400-1696179600@geordiehog.com
SUMMARY:Wales weekender
DESCRIPTION:Wales weekender ride out – 2 nights in wales with ride out on the Saturday.
URL:https://geordiehog.com/events/wales-weekender/
CATEGORIES:- Member
END:VEVENT
END:VCALENDAR