BEGIN:VCALENDAR
VERSION:2.0
PRODID:-// - ECPv6.15.20//NONSGML v1.0//EN
CALSCALE:GREGORIAN
METHOD:PUBLISH
X-ORIGINAL-URL:https://geordiehog.com
X-WR-CALDESC:Events for 
REFRESH-INTERVAL;VALUE=DURATION:PT1H
X-Robots-Tag:noindex
X-PUBLISHED-TTL:PT1H
BEGIN:VTIMEZONE
TZID:Europe/London
BEGIN:DAYLIGHT
TZOFFSETFROM:+0000
TZOFFSETTO:+0100
TZNAME:BST
DTSTART:20220327T010000
END:DAYLIGHT
BEGIN:STANDARD
TZOFFSETFROM:+0100
TZOFFSETTO:+0000
TZNAME:GMT
DTSTART:20221030T010000
END:STANDARD
BEGIN:DAYLIGHT
TZOFFSETFROM:+0000
TZOFFSETTO:+0100
TZNAME:BST
DTSTART:20230326T010000
END:DAYLIGHT
BEGIN:STANDARD
TZOFFSETFROM:+0100
TZOFFSETTO:+0000
TZNAME:GMT
DTSTART:20231029T010000
END:STANDARD
BEGIN:DAYLIGHT
TZOFFSETFROM:+0000
TZOFFSETTO:+0100
TZNAME:BST
DTSTART:20240331T010000
END:DAYLIGHT
BEGIN:STANDARD
TZOFFSETFROM:+0100
TZOFFSETTO:+0000
TZNAME:GMT
DTSTART:20241027T010000
END:STANDARD
END:VTIMEZONE
BEGIN:VEVENT
DTSTART;TZID=Europe/London:20230304T100000
DTEND;TZID=Europe/London:20230304T170000
DTSTAMP:20260422T234926
CREATED:20230103T123201Z
LAST-MODIFIED:20230103T123201Z
UID:7184-1677924000-1677949200@geordiehog.com
SUMMARY:Newbie ride
DESCRIPTION:A ride out for new members or those who wish to increase knowledge of riding in a pack. \nTimes and destination etc to be finalised.
URL:https://geordiehog.com/events/newbie-ride/
LOCATION:Gateshead Harley-Davidson\, Ellison Road\, Gateshead\, NE8 2QU\, United Kingdom
CATEGORIES:- Member
END:VEVENT
BEGIN:VEVENT
DTSTART;TZID=Europe/London:20230311T100000
DTEND;TZID=Europe/London:20230311T170000
DTSTAMP:20260422T234926
CREATED:20230103T123330Z
LAST-MODIFIED:20230103T123330Z
UID:7186-1678528800-1678554000@geordiehog.com
SUMMARY:Newbie ride
DESCRIPTION:A ride out for new members or those who wish to increase knowledge of riding in a pack. \nTimes and destination etc to be finalised.
URL:https://geordiehog.com/events/newbie-ride-2/
LOCATION:Gateshead Harley-Davidson\, Ellison Road\, Gateshead\, NE8 2QU\, United Kingdom
CATEGORIES:- Member
END:VEVENT
BEGIN:VEVENT
DTSTART;TZID=Europe/London:20230318T100000
DTEND;TZID=Europe/London:20230318T170000
DTSTAMP:20260422T234926
CREATED:20230103T123412Z
LAST-MODIFIED:20230103T123412Z
UID:7188-1679133600-1679158800@geordiehog.com
SUMMARY:Newbie ride
DESCRIPTION:A ride out for new members or those who wish to increase knowledge of riding in a pack. \nTimes and destination etc to be finalised.
URL:https://geordiehog.com/events/newbie-ride-3/
LOCATION:Gateshead Harley-Davidson\, Ellison Road\, Gateshead\, NE8 2QU\, United Kingdom
CATEGORIES:- Member
END:VEVENT
BEGIN:VEVENT
DTSTART;TZID=Europe/London:20230325T100000
DTEND;TZID=Europe/London:20230325T170000
DTSTAMP:20260422T234926
CREATED:20230103T123446Z
LAST-MODIFIED:20230103T123446Z
UID:7190-1679738400-1679763600@geordiehog.com
SUMMARY:Newbie ride
DESCRIPTION:A ride out for new members or those who wish to increase knowledge of riding in a pack. \nTimes and destination etc to be finalised.
URL:https://geordiehog.com/events/newbie-ride-4/
LOCATION:Gateshead Harley-Davidson\, Ellison Road\, Gateshead\, NE8 2QU\, United Kingdom
CATEGORIES:- Member
END:VEVENT
END:VCALENDAR