BEGIN:VCALENDAR
VERSION:2.0
PRODID:-// - ECPv6.15.20//NONSGML v1.0//EN
CALSCALE:GREGORIAN
METHOD:PUBLISH
X-ORIGINAL-URL:https://geordiehog.com
X-WR-CALDESC:Events for 
REFRESH-INTERVAL;VALUE=DURATION:PT1H
X-Robots-Tag:noindex
X-PUBLISHED-TTL:PT1H
BEGIN:VTIMEZONE
TZID:Europe/London
BEGIN:DAYLIGHT
TZOFFSETFROM:+0000
TZOFFSETTO:+0100
TZNAME:BST
DTSTART:20220327T010000
END:DAYLIGHT
BEGIN:STANDARD
TZOFFSETFROM:+0100
TZOFFSETTO:+0000
TZNAME:GMT
DTSTART:20221030T010000
END:STANDARD
BEGIN:DAYLIGHT
TZOFFSETFROM:+0000
TZOFFSETTO:+0100
TZNAME:BST
DTSTART:20230326T010000
END:DAYLIGHT
BEGIN:STANDARD
TZOFFSETFROM:+0100
TZOFFSETTO:+0000
TZNAME:GMT
DTSTART:20231029T010000
END:STANDARD
BEGIN:DAYLIGHT
TZOFFSETFROM:+0000
TZOFFSETTO:+0100
TZNAME:BST
DTSTART:20240331T010000
END:DAYLIGHT
BEGIN:STANDARD
TZOFFSETFROM:+0100
TZOFFSETTO:+0000
TZNAME:GMT
DTSTART:20241027T010000
END:STANDARD
BEGIN:DAYLIGHT
TZOFFSETFROM:+0000
TZOFFSETTO:+0100
TZNAME:BST
DTSTART:20250330T010000
END:DAYLIGHT
BEGIN:STANDARD
TZOFFSETFROM:+0100
TZOFFSETTO:+0000
TZNAME:GMT
DTSTART:20251026T010000
END:STANDARD
BEGIN:DAYLIGHT
TZOFFSETFROM:+0000
TZOFFSETTO:+0100
TZNAME:BST
DTSTART:20260329T010000
END:DAYLIGHT
BEGIN:STANDARD
TZOFFSETFROM:+0100
TZOFFSETTO:+0000
TZNAME:GMT
DTSTART:20261025T010000
END:STANDARD
END:VTIMEZONE
BEGIN:VEVENT
DTSTART;TZID=Europe/London:20230520T080000
DTEND;TZID=Europe/London:20230520T170000
DTSTAMP:20260425T115331
CREATED:20230503T075131Z
LAST-MODIFIED:20230503T075131Z
UID:7292-1684569600-1684602000@geordiehog.com
SUMMARY:Gateshead Harley Ride day
DESCRIPTION:Gateshead Harley Ride day
URL:https://geordiehog.com/events/gateshead-harley-ride-day/
LOCATION:Gateshead Harley-Davidson\, Ellison Road\, Gateshead\, NE8 2QU\, United Kingdom
CATEGORIES:- Closed,- Member
END:VEVENT
BEGIN:VEVENT
DTSTART;TZID=Europe/London:20230521T080000
DTEND;TZID=Europe/London:20230521T170000
DTSTAMP:20260425T115331
CREATED:20230503T075226Z
LAST-MODIFIED:20230503T075226Z
UID:7294-1684656000-1684688400@geordiehog.com
SUMMARY:Borders Ride
DESCRIPTION:Borders ride to be led by Alen Wright.
URL:https://geordiehog.com/events/borders-ride-2/
CATEGORIES:- Closed,- Member
END:VEVENT
BEGIN:VEVENT
DTSTART;TZID=Europe/London:20230601T190000
DTEND;TZID=Europe/London:20230601T210000
DTSTAMP:20260425T115331
CREATED:20230103T122401Z
LAST-MODIFIED:20230103T122401Z
UID:7172-1685646000-1685653200@geordiehog.com
SUMMARY:Chapter meeting - June 2023
DESCRIPTION:Keep up to date with what’s happening in the Chapter\, including ride-outs and social events. Keep an eye on our closed Facebook pages for more details.
URL:https://geordiehog.com/events/chapter-meeting-june-2023/
LOCATION:Nissan Sports and Leisure Complex\, Sunderland\, SR5 3NS\, United Kingdom
CATEGORIES:- Member
END:VEVENT
BEGIN:VEVENT
DTSTART;TZID=Europe/London:20230611T080000
DTEND;TZID=Europe/London:20230611T170000
DTSTAMP:20260425T115331
CREATED:20230419T073532Z
LAST-MODIFIED:20230419T073532Z
UID:7286-1686470400-1686502800@geordiehog.com
SUMMARY:i2i Motorcycle training day
DESCRIPTION:Machine control training – for those that wish to improve their riding skills. This is a paid for event with limited places so please ask the committee for further information.
URL:https://geordiehog.com/events/i2i-motorcycle-training-day/
CATEGORIES:- Member
END:VEVENT
BEGIN:VEVENT
DTSTART;TZID=Europe/London:20230617T080000
DTEND;TZID=Europe/London:20230617T170000
DTSTAMP:20260425T115331
CREATED:20230419T073627Z
LAST-MODIFIED:20230419T073627Z
UID:7288-1686988800-1687021200@geordiehog.com
SUMMARY:Eshott Flying club ride
DESCRIPTION:
URL:https://geordiehog.com/events/eshott-flying-club-ride/
CATEGORIES:- Member
END:VEVENT
BEGIN:VEVENT
DTSTART;TZID=Europe/London:20230622T080000
DTEND;TZID=Europe/London:20230625T170000
DTSTAMP:20260425T115331
CREATED:20230503T081141Z
LAST-MODIFIED:20230503T081141Z
UID:7311-1687420800-1687712400@geordiehog.com
SUMMARY:Harley Davidson Budapest 120 Rally
DESCRIPTION:Harley-Davidson 120th Anniversary Festival – to celebrate 120 years of iconic motorcycles from June 22-25\, 2023\, at the Puskás Aréna Park in central Budapest.
URL:https://geordiehog.com/events/harley-davidson-budapest-120-rally/
CATEGORIES:- Member
END:VEVENT
BEGIN:VEVENT
DTSTART;TZID=Europe/London:20230701T080000
DTEND;TZID=Europe/London:20230701T170000
DTSTAMP:20260425T115331
CREATED:20230503T075746Z
LAST-MODIFIED:20230503T080244Z
UID:7304-1688198400-1688230800@geordiehog.com
SUMMARY:Nathans Birthday
DESCRIPTION:Little ride up to Nathans for his birthday.
URL:https://geordiehog.com/events/nathans-birthday/
CATEGORIES:- Member
END:VEVENT
BEGIN:VEVENT
DTSTART;TZID=Europe/London:20230702T090000
DTEND;TZID=Europe/London:20230702T170000
DTSTAMP:20260425T115331
CREATED:20230503T075912Z
LAST-MODIFIED:20230503T102609Z
UID:7306-1688288400-1688317200@geordiehog.com
SUMMARY:American car show ride
DESCRIPTION:Planned ride out to the American car show at Ushaw.
URL:https://geordiehog.com/events/american-car-show-ride/
CATEGORIES:- Closed,- Member
END:VEVENT
BEGIN:VEVENT
DTSTART;TZID=Europe/London:20230706T080000
DTEND;TZID=Europe/London:20230706T170000
DTSTAMP:20260425T115331
CREATED:20230103T122528Z
LAST-MODIFIED:20230103T122528Z
UID:7174-1688630400-1688662800@geordiehog.com
SUMMARY:Chapter meeting - July 2023
DESCRIPTION:Keep up to date with what’s happening in the Chapter\, including ride-outs and social events. Keep an eye on our closed Facebook pages for more details.
URL:https://geordiehog.com/events/chapter-meeting-july-2023/
LOCATION:Nissan Sports and Leisure Complex\, Sunderland\, SR5 3NS\, United Kingdom
CATEGORIES:- Member
END:VEVENT
BEGIN:VEVENT
DTSTART;TZID=Europe/London:20230716T080000
DTEND;TZID=Europe/London:20230716T170000
DTSTAMP:20260425T115331
CREATED:20230503T080053Z
LAST-MODIFIED:20230503T080053Z
UID:7308-1689494400-1689526800@geordiehog.com
SUMMARY:Harbour/RNLI day
DESCRIPTION:Ride led by Waldo
URL:https://geordiehog.com/events/harbour-rnli-day/
CATEGORIES:- Member
END:VEVENT
BEGIN:VEVENT
DTSTART;TZID=Europe/London:20230722T080000
DTEND;TZID=Europe/London:20230722T170000
DTSTAMP:20260425T115331
CREATED:20230503T092622Z
LAST-MODIFIED:20230503T092622Z
UID:7313-1690012800-1690045200@geordiehog.com
SUMMARY:Bond Of Brothers Chrysalis coffee morning
DESCRIPTION:Bond Of Brothers Chrysalis coffee morning
URL:https://geordiehog.com/events/bond-of-brothers-chrysalis-coffee-morning/
CATEGORIES:- Member
END:VEVENT
BEGIN:VEVENT
DTSTART;TZID=Europe/London:20230729T080000
DTEND;TZID=Europe/London:20230729T170000
DTSTAMP:20260425T115331
CREATED:20230503T092742Z
LAST-MODIFIED:20230503T092742Z
UID:7315-1690617600-1690650000@geordiehog.com
SUMMARY:CHUF super hero day
DESCRIPTION:CHUFF super hero day. Dress as your favourite super hero to help raise funds for CHUF.
URL:https://geordiehog.com/events/chuf-super-hero-day/
CATEGORIES:- Member
END:VEVENT
BEGIN:VEVENT
DTSTART;TZID=Europe/London:20230820T100000
DTEND;TZID=Europe/London:20230820T170000
DTSTAMP:20260425T115331
CREATED:20230503T093221Z
LAST-MODIFIED:20230503T093221Z
UID:7319-1692525600-1692550800@geordiehog.com
SUMMARY:LOH/Bangers and cash ride
DESCRIPTION:LOH/Bangers and cash ride\, Dawn/Paul leading.
URL:https://geordiehog.com/events/loh-bangers-and-cash-ride/
CATEGORIES:- Member
END:VEVENT
BEGIN:VEVENT
DTSTART;TZID=Europe/London:20230907T190000
DTEND;TZID=Europe/London:20230907T210000
DTSTAMP:20260425T115331
CREATED:20230103T122632Z
LAST-MODIFIED:20230103T122632Z
UID:7176-1694113200-1694120400@geordiehog.com
SUMMARY:Chapter meeting - September 2023
DESCRIPTION:Keep up to date with what’s happening in the Chapter\, including ride-outs and social events. Keep an eye on our closed Facebook pages for more details.
URL:https://geordiehog.com/events/chapter-meeting-september-2023/
LOCATION:Nissan Sports and Leisure Complex\, Sunderland\, SR5 3NS\, United Kingdom
CATEGORIES:- Member
END:VEVENT
BEGIN:VEVENT
DTSTART;TZID=Europe/London:20230929T080000
DTEND;TZID=Europe/London:20231001T170000
DTSTAMP:20260425T115331
CREATED:20230503T093759Z
LAST-MODIFIED:20230503T093759Z
UID:7323-1695974400-1696179600@geordiehog.com
SUMMARY:Wales weekender
DESCRIPTION:Wales weekender ride out – 2 nights in wales with ride out on the Saturday.
URL:https://geordiehog.com/events/wales-weekender/
CATEGORIES:- Member
END:VEVENT
BEGIN:VEVENT
DTSTART;TZID=Europe/London:20231005T080000
DTEND;TZID=Europe/London:20231005T170000
DTSTAMP:20260425T115331
CREATED:20230103T122737Z
LAST-MODIFIED:20230103T122737Z
UID:7178-1696492800-1696525200@geordiehog.com
SUMMARY:Chapter meeting - October 2023
DESCRIPTION:Keep up to date with what’s happening in the Chapter\, including ride-outs and social events. Keep an eye on our closed Facebook pages for more details.
URL:https://geordiehog.com/events/chapter-meeting-october-2023/
LOCATION:Nissan Sports and Leisure Complex\, Sunderland\, SR5 3NS\, United Kingdom
CATEGORIES:- Member
END:VEVENT
BEGIN:VEVENT
DTSTART;TZID=Europe/London:20231007T070000
DTEND;TZID=Europe/London:20231007T170000
DTSTAMP:20260425T115331
CREATED:20230503T093857Z
LAST-MODIFIED:20230503T093857Z
UID:7325-1696662000-1696698000@geordiehog.com
SUMMARY:RIDE TO THE WALL
DESCRIPTION:Chapter RIDE TO THE WALL – down and back in 1 day to pay our respects.
URL:https://geordiehog.com/events/ride-to-the-wall/
CATEGORIES:- Member
END:VEVENT
BEGIN:VEVENT
DTSTART;TZID=Europe/London:20231021T180000
DTEND;TZID=Europe/London:20231021T233000
DTSTAMP:20260425T115331
CREATED:20230503T094159Z
LAST-MODIFIED:20230503T094159Z
UID:7329-1697911200-1697931000@geordiehog.com
SUMMARY:END OF TERM party
DESCRIPTION:Time to get dressed up again for our end of term party to mark the end of the riding season. Party held at Percy park rugby club.
URL:https://geordiehog.com/events/end-of-term-party/
LOCATION:Percy Park Rugby Club\, Preston Avenue\, North Shields\, NE30 2BE\, United Kingdom
CATEGORIES:- Member
END:VEVENT
BEGIN:VEVENT
DTSTART;TZID=Europe/London:20231102T190000
DTEND;TZID=Europe/London:20231102T210000
DTSTAMP:20260425T115331
CREATED:20230103T122834Z
LAST-MODIFIED:20230103T122834Z
UID:7180-1698951600-1698958800@geordiehog.com
SUMMARY:Chapter meeting - November 2023
DESCRIPTION:Keep up to date with what’s happening in the Chapter\, including ride-outs and social events. Keep an eye on our closed Facebook pages for more details.
URL:https://geordiehog.com/events/chapter-meeting-november-2023/
LOCATION:Nissan Sports and Leisure Complex\, Sunderland\, SR5 3NS\, United Kingdom
CATEGORIES:- Member
END:VEVENT
BEGIN:VEVENT
DTSTART;TZID=Europe/London:20231117T100000
DTEND;TZID=Europe/London:20231118T170000
DTSTAMP:20260425T115331
CREATED:20230503T094344Z
LAST-MODIFIED:20230503T094344Z
UID:7331-1700215200-1700326800@geordiehog.com
SUMMARY:LOH YORK WEEKEND
DESCRIPTION:The Ladies of Harley get together in York for food drinks and shenanigans!
URL:https://geordiehog.com/events/loh-york-weekend/
CATEGORIES:- Member
END:VEVENT
BEGIN:VEVENT
DTSTART;TZID=Europe/London:20231202T100000
DTEND;TZID=Europe/London:20231202T130000
DTSTAMP:20260425T115331
CREATED:20230503T094552Z
LAST-MODIFIED:20230503T094552Z
UID:7333-1701511200-1701522000@geordiehog.com
SUMMARY:SANTA RIDE
DESCRIPTION:Get your Santa suits on for this ride around Newcastle with a toy collection for the children who would otherwise go without.
URL:https://geordiehog.com/events/santa-ride/
CATEGORIES:- Member
END:VEVENT
BEGIN:VEVENT
DTSTART;TZID=Europe/London:20231207T190000
DTEND;TZID=Europe/London:20231207T210000
DTSTAMP:20260425T115331
CREATED:20230103T122927Z
LAST-MODIFIED:20230103T122927Z
UID:7182-1701975600-1701982800@geordiehog.com
SUMMARY:Chapter meeting - December 2023
DESCRIPTION:Keep up to date with what’s happening in the Chapter\, including ride-outs and social events. Keep an eye on our closed Facebook pages for more details.
URL:https://geordiehog.com/events/chapter-meeting-december-2023/
LOCATION:Nissan Sports and Leisure Complex\, Sunderland\, SR5 3NS\, United Kingdom
CATEGORIES:- Member
END:VEVENT
BEGIN:VEVENT
DTSTART;TZID=Europe/London:20231209T150000
DTEND;TZID=Europe/London:20231209T230000
DTSTAMP:20260425T115331
CREATED:20230503T094718Z
LAST-MODIFIED:20230503T094718Z
UID:7335-1702134000-1702162800@geordiehog.com
SUMMARY:QUAYSIDE MEANDER
DESCRIPTION:QUAYSIDE DRINK DAY – join your fellow members in a day bimbling from bar to bar on the quayside.
URL:https://geordiehog.com/events/quayside-meander/
CATEGORIES:- Member
END:VEVENT
BEGIN:VEVENT
DTSTART;TZID=Europe/London:20231216T080000
DTEND;TZID=Europe/London:20231216T170000
DTSTAMP:20260425T115331
CREATED:20230503T094827Z
LAST-MODIFIED:20230503T095038Z
UID:7337-1702713600-1702746000@geordiehog.com
SUMMARY:Saturday social at the dealership - TBC
DESCRIPTION:Saturday social at the dealership – this is either 16th or 23rd December
URL:https://geordiehog.com/events/saturday-social-at-the-dearlership-tbc/
LOCATION:Gateshead Harley-Davidson\, Ellison Road\, Gateshead\, NE8 2QU\, United Kingdom
CATEGORIES:- Member
END:VEVENT
BEGIN:VEVENT
DTSTART;TZID=Europe/London:20231223T100000
DTEND;TZID=Europe/London:20231223T150000
DTSTAMP:20260425T115331
CREATED:20230503T094928Z
LAST-MODIFIED:20230503T094928Z
UID:7339-1703325600-1703343600@geordiehog.com
SUMMARY:Saturday social at the dealership
DESCRIPTION:Saturday social at the dealership – this is either 16th or 23rd December
URL:https://geordiehog.com/events/saturday-social-at-the-dealership/
LOCATION:Gateshead Harley-Davidson\, Ellison Road\, Gateshead\, NE8 2QU\, United Kingdom
CATEGORIES:- Member
END:VEVENT
BEGIN:VEVENT
DTSTART;TZID=Europe/London:20250306T190000
DTEND;TZID=Europe/London:20250306T210000
DTSTAMP:20260425T115331
CREATED:20250115T184624Z
LAST-MODIFIED:20250115T184624Z
UID:7646-1741287600-1741294800@geordiehog.com
SUMMARY:Chapter Social - March
DESCRIPTION:Keep up to date with what’s happening in the Chapter\, including ride-outs and social events. Keep an eye on our closed Facebook pages for more details.
URL:https://geordiehog.com/events/chapter-social-march/
LOCATION:Nissan Sports and Leisure Complex\, Sunderland\, SR5 3NS\, United Kingdom
CATEGORIES:- Member
END:VEVENT
BEGIN:VEVENT
DTSTART;TZID=Europe/London:20250403T190000
DTEND;TZID=Europe/London:20250403T210000
DTSTAMP:20260425T115331
CREATED:20250115T184718Z
LAST-MODIFIED:20250115T184718Z
UID:7648-1743706800-1743714000@geordiehog.com
SUMMARY:Chapter Social - April
DESCRIPTION:Keep up to date with what’s happening in the Chapter\, including ride-outs and social events. Keep an eye on our closed Facebook pages for more details.
URL:https://geordiehog.com/events/chapter-social-april/
LOCATION:Nissan Sports and Leisure Complex\, Sunderland\, SR5 3NS\, United Kingdom
CATEGORIES:- Member
END:VEVENT
BEGIN:VEVENT
DTSTART;TZID=Europe/London:20250501T190000
DTEND;TZID=Europe/London:20250501T210000
DTSTAMP:20260425T115331
CREATED:20250115T184817Z
LAST-MODIFIED:20250115T184832Z
UID:7650-1746126000-1746133200@geordiehog.com
SUMMARY:Chapter Social - May
DESCRIPTION:Keep up to date with what’s happening in the Chapter\, including ride-outs and social events. Keep an eye on our closed Facebook pages for more details.
URL:https://geordiehog.com/events/chapter-social-may/
LOCATION:Nissan Sports and Leisure Complex\, Sunderland\, SR5 3NS\, United Kingdom
CATEGORIES:- Member
END:VEVENT
BEGIN:VEVENT
DTSTART;TZID=Europe/London:20250703T190000
DTEND;TZID=Europe/London:20250703T210000
DTSTAMP:20260425T115331
CREATED:20250115T185013Z
LAST-MODIFIED:20250115T185013Z
UID:7654-1751569200-1751576400@geordiehog.com
SUMMARY:Chapter Social - July
DESCRIPTION:Keep up to date with what’s happening in the Chapter\, including ride-outs and social events. Keep an eye on our closed Facebook pages for more details.
URL:https://geordiehog.com/events/chapter-social-july/
LOCATION:Nissan Sports and Leisure Complex\, Sunderland\, SR5 3NS\, United Kingdom
CATEGORIES:- Member
END:VEVENT
BEGIN:VEVENT
DTSTART;TZID=Europe/London:20250807T190000
DTEND;TZID=Europe/London:20250807T210000
DTSTAMP:20260425T115331
CREATED:20250115T185110Z
LAST-MODIFIED:20250115T185138Z
UID:7656-1754593200-1754600400@geordiehog.com
SUMMARY:Chapter Social - August
DESCRIPTION:Keep up to date with what’s happening in the Chapter\, including ride-outs and social events. Keep an eye on our closed Facebook pages for more details.
URL:https://geordiehog.com/events/chapter-social-july-2/
LOCATION:Nissan Sports and Leisure Complex\, Sunderland\, SR5 3NS\, United Kingdom
CATEGORIES:- Member
END:VEVENT
END:VCALENDAR