BEGIN:VCALENDAR
VERSION:2.0
PRODID:-// - ECPv6.15.20//NONSGML v1.0//EN
CALSCALE:GREGORIAN
METHOD:PUBLISH
X-ORIGINAL-URL:https://geordiehog.com
X-WR-CALDESC:Events for 
REFRESH-INTERVAL;VALUE=DURATION:PT1H
X-Robots-Tag:noindex
X-PUBLISHED-TTL:PT1H
BEGIN:VTIMEZONE
TZID:Europe/London
BEGIN:DAYLIGHT
TZOFFSETFROM:+0000
TZOFFSETTO:+0100
TZNAME:BST
DTSTART:20210328T010000
END:DAYLIGHT
BEGIN:STANDARD
TZOFFSETFROM:+0100
TZOFFSETTO:+0000
TZNAME:GMT
DTSTART:20211031T010000
END:STANDARD
BEGIN:DAYLIGHT
TZOFFSETFROM:+0000
TZOFFSETTO:+0100
TZNAME:BST
DTSTART:20220327T010000
END:DAYLIGHT
BEGIN:STANDARD
TZOFFSETFROM:+0100
TZOFFSETTO:+0000
TZNAME:GMT
DTSTART:20221030T010000
END:STANDARD
BEGIN:DAYLIGHT
TZOFFSETFROM:+0000
TZOFFSETTO:+0100
TZNAME:BST
DTSTART:20230326T010000
END:DAYLIGHT
BEGIN:STANDARD
TZOFFSETFROM:+0100
TZOFFSETTO:+0000
TZNAME:GMT
DTSTART:20231029T010000
END:STANDARD
END:VTIMEZONE
BEGIN:VEVENT
DTSTART;TZID=Europe/London:20220804T120000
DTEND;TZID=Europe/London:20220807T120000
DTSTAMP:20260425T175511
CREATED:20211117T142729Z
LAST-MODIFIED:20220802T115247Z
UID:6366-1659614400-1659873600@geordiehog.com
SUMMARY:Heart 'n' Soul Rally\, 2022
DESCRIPTION:You all know the drill after 2021’s successful rally … get on down there and get amongst it! \nGet your tickets here!
URL:https://geordiehog.com/events/heart-n-soul-rally-2022/
LOCATION:Percy Park Rugby Club\, Preston Avenue\, North Shields\, NE30 2BE\, United Kingdom
CATEGORIES:- Member
END:VEVENT
BEGIN:VEVENT
DTSTART;TZID=Europe/London:20220805T120000
DTEND;TZID=Europe/London:20220807T170000
DTSTAMP:20260425T175511
CREATED:20211203T131346Z
LAST-MODIFIED:20211203T131346Z
UID:6446-1659700800-1659891600@geordiehog.com
SUMMARY:HOG ‘n’ BOG\, 2022
DESCRIPTION:For further details\, refer to the Belfast Chapter website: \nwww.belfasthog.com/
URL:https://geordiehog.com/events/hog-n-bog-2022/
CATEGORIES:- Member
END:VEVENT
BEGIN:VEVENT
DTSTART;TZID=Europe/London:20220813T103000
DTEND;TZID=Europe/London:20220813T170000
DTSTAMP:20260425T175511
CREATED:20220730T074412Z
LAST-MODIFIED:20220730T075505Z
UID:6808-1660386600-1660410000@geordiehog.com
SUMMARY:Chapter ride\, August 2022
DESCRIPTION:Monthly Chapter ride. \nTravelling to Eskdalemuir. Setting off at half-ten from Gateshead Harley-Davidson. \nThis is a marshalled ride\, led by our Road Crew. There will be a rider briefing at the beginning of the ride. Please take note of all guidance from the Road Crew before we set off and don’t put your helmets on until after the briefing. If any guests join us on our ride-out\, you MUST sign our Chapter Event Release Form before we set off. \n  \nSee y’all there!
URL:https://geordiehog.com/events/chapter-ride-august-2022-2/
LOCATION:Gateshead Harley-Davidson\, Ellison Road\, Gateshead\, NE8 2QU\, United Kingdom
CATEGORIES:- Member
END:VEVENT
BEGIN:VEVENT
DTSTART;TZID=Europe/London:20220821T103000
DTEND;TZID=Europe/London:20220821T170000
DTSTAMP:20260425T175511
CREATED:20220108T093238Z
LAST-MODIFIED:20220813T072641Z
UID:6577-1661077800-1661101200@geordiehog.com
SUMMARY:Chapter ride\, August 2022
DESCRIPTION:Monthly Chapter ride. \nTravelling to Talkin Tarn. Setting off at half-ten from Seaton Burn Services. \nThis is a marshalled ride\, led by our Road Crew. There will be a rider briefing at the beginning of the ride. Please take note of all guidance from the Road Crew before we set off and don’t put your helmets on until after the briefing. If any guests join us on our ride-out\, you MUST sign our Chapter Event Release Form before we set off. \n  \nSee y’all there!
URL:https://geordiehog.com/events/chapter-ride-august-2022/
LOCATION:Seaton Burn Services\, Fisher Lane\, Newcastle upon Tyne\, NE13 6BP
CATEGORIES:- Member
END:VEVENT
BEGIN:VEVENT
DTSTART;TZID=Europe/London:20220826T120000
DTEND;TZID=Europe/London:20220829T120000
DTSTAMP:20260425T175511
CREATED:20211117T142145Z
LAST-MODIFIED:20220108T093109Z
UID:6362-1661515200-1661774400@geordiehog.com
SUMMARY:Thunder in the Glens\, 2022
DESCRIPTION:For further details\, refer to the Dunedin Chapter website: \nwww.dunedinhog.com/
URL:https://geordiehog.com/events/thunder-in-the-glens-2022/
CATEGORIES:- Member
END:VEVENT
END:VCALENDAR