BEGIN:VCALENDAR
VERSION:2.0
PRODID:-// - ECPv6.15.20//NONSGML v1.0//EN
CALSCALE:GREGORIAN
METHOD:PUBLISH
X-ORIGINAL-URL:https://geordiehog.com
X-WR-CALDESC:Events for 
REFRESH-INTERVAL;VALUE=DURATION:PT1H
X-Robots-Tag:noindex
X-PUBLISHED-TTL:PT1H
BEGIN:VTIMEZONE
TZID:Europe/London
BEGIN:DAYLIGHT
TZOFFSETFROM:+0000
TZOFFSETTO:+0100
TZNAME:BST
DTSTART:20200329T010000
END:DAYLIGHT
BEGIN:STANDARD
TZOFFSETFROM:+0100
TZOFFSETTO:+0000
TZNAME:GMT
DTSTART:20201025T010000
END:STANDARD
BEGIN:DAYLIGHT
TZOFFSETFROM:+0000
TZOFFSETTO:+0100
TZNAME:BST
DTSTART:20210328T010000
END:DAYLIGHT
BEGIN:STANDARD
TZOFFSETFROM:+0100
TZOFFSETTO:+0000
TZNAME:GMT
DTSTART:20211031T010000
END:STANDARD
BEGIN:DAYLIGHT
TZOFFSETFROM:+0000
TZOFFSETTO:+0100
TZNAME:BST
DTSTART:20220327T010000
END:DAYLIGHT
BEGIN:STANDARD
TZOFFSETFROM:+0100
TZOFFSETTO:+0000
TZNAME:GMT
DTSTART:20221030T010000
END:STANDARD
BEGIN:DAYLIGHT
TZOFFSETFROM:+0000
TZOFFSETTO:+0100
TZNAME:BST
DTSTART:20230326T010000
END:DAYLIGHT
BEGIN:STANDARD
TZOFFSETFROM:+0100
TZOFFSETTO:+0000
TZNAME:GMT
DTSTART:20231029T010000
END:STANDARD
BEGIN:DAYLIGHT
TZOFFSETFROM:+0000
TZOFFSETTO:+0100
TZNAME:BST
DTSTART:20240331T010000
END:DAYLIGHT
BEGIN:STANDARD
TZOFFSETFROM:+0100
TZOFFSETTO:+0000
TZNAME:GMT
DTSTART:20241027T010000
END:STANDARD
END:VTIMEZONE
BEGIN:VEVENT
DTSTART;TZID=Europe/London:20211021T190000
DTEND;TZID=Europe/London:20211021T210000
DTSTAMP:20260423T020130
CREATED:20210602T165434Z
LAST-MODIFIED:20210914T153624Z
UID:5965-1634842800-1634850000@geordiehog.com
SUMMARY:Committee Meeting\, October 2021
DESCRIPTION:Geordie Chapter Committee meeting
URL:https://geordiehog.com/events/committee-meeting-october-2021/
LOCATION:Nissan Sports and Leisure Complex\, Sunderland\, SR5 3NS\, United Kingdom
CATEGORIES:- Closed
END:VEVENT
BEGIN:VEVENT
DTSTART;TZID=Europe/London:20211104T190000
DTEND;TZID=Europe/London:20211104T210000
DTSTAMP:20260423T020130
CREATED:20210505T092628Z
LAST-MODIFIED:20210914T160118Z
UID:5728-1636052400-1636059600@geordiehog.com
SUMMARY:Chapter Meeting\, November 2021
DESCRIPTION:Keep up to date with what’s happening in the Chapter\, including ride-outs and social events. Keep an eye on our closed Facebook pages for more details.
URL:https://geordiehog.com/events/chapter-meeting-november-2021/
LOCATION:Nissan Sports and Leisure Complex\, Sunderland\, SR5 3NS\, United Kingdom
CATEGORIES:- Closed
END:VEVENT
BEGIN:VEVENT
DTSTART;TZID=Europe/London:20211118T190000
DTEND;TZID=Europe/London:20211118T210000
DTSTAMP:20260423T020130
CREATED:20210602T165455Z
LAST-MODIFIED:20210914T153639Z
UID:5966-1637262000-1637269200@geordiehog.com
SUMMARY:Committee Meeting\, November 2021
DESCRIPTION:Geordie Chapter Committee meeting
URL:https://geordiehog.com/events/committee-meeting-november-2021/
LOCATION:Nissan Sports and Leisure Complex\, Sunderland\, SR5 3NS\, United Kingdom
CATEGORIES:- Closed
END:VEVENT
BEGIN:VEVENT
DTSTART;TZID=Europe/London:20211202T190000
DTEND;TZID=Europe/London:20211202T210000
DTSTAMP:20260423T020131
CREATED:20210505T092620Z
LAST-MODIFIED:20210914T160123Z
UID:5729-1638471600-1638478800@geordiehog.com
SUMMARY:Chapter Meeting\, December 2021
DESCRIPTION:Keep up to date with what’s happening in the Chapter\, including ride-outs and social events. Keep an eye on our closed Facebook pages for more details.
URL:https://geordiehog.com/events/chapter-meeting-december-2021/
LOCATION:Nissan Sports and Leisure Complex\, Sunderland\, SR5 3NS\, United Kingdom
CATEGORIES:- Closed
END:VEVENT
BEGIN:VEVENT
DTSTART;TZID=Europe/London:20211211T190000
DTEND;TZID=Europe/London:20211211T233000
DTSTAMP:20260423T020131
CREATED:20210528T080958Z
LAST-MODIFIED:20210914T161532Z
UID:5948-1639249200-1639265400@geordiehog.com
SUMMARY:Chapter Christmas Party\, 2021
DESCRIPTION:Chapter Christmas meal\, with a fabulous night for everyone. \nFull details to follow.
URL:https://geordiehog.com/events/chapter-christmas-party-2021/
LOCATION:Nissan Sports and Leisure Complex\, Sunderland\, SR5 3NS\, United Kingdom
CATEGORIES:- Closed
END:VEVENT
BEGIN:VEVENT
DTSTART;TZID=Europe/London:20220120T190000
DTEND;TZID=Europe/London:20220120T210000
DTSTAMP:20260423T020131
CREATED:20211222T145130Z
LAST-MODIFIED:20211222T145237Z
UID:6498-1642705200-1642712400@geordiehog.com
SUMMARY:Committee Meeting\, January 2022
DESCRIPTION:Geordie Chapter Committee meeting
URL:https://geordiehog.com/events/committee-meeting-january-2022/
LOCATION:Nissan Sports and Leisure Complex\, Sunderland\, SR5 3NS\, United Kingdom
CATEGORIES:- Closed
END:VEVENT
BEGIN:VEVENT
DTSTART;TZID=Europe/London:20220203T190000
DTEND;TZID=Europe/London:20220203T210000
DTSTAMP:20260423T020131
CREATED:20211118T144056Z
LAST-MODIFIED:20211118T144751Z
UID:6373-1643914800-1643922000@geordiehog.com
SUMMARY:Chapter Meeting\, February 2022
DESCRIPTION:Keep up to date with what’s happening in the Chapter\, including ride-outs and social events. Keep an eye on our closed Facebook pages for more details.
URL:https://geordiehog.com/events/chapter-meeting-february-2022/
LOCATION:Nissan Sports and Leisure Complex\, Sunderland\, SR5 3NS\, United Kingdom
CATEGORIES:- Closed
END:VEVENT
BEGIN:VEVENT
DTSTART;TZID=Europe/London:20220217T190000
DTEND;TZID=Europe/London:20220217T210000
DTSTAMP:20260423T020131
CREATED:20211222T145133Z
LAST-MODIFIED:20211222T145233Z
UID:6499-1645124400-1645131600@geordiehog.com
SUMMARY:Committee Meeting\, February 2022
DESCRIPTION:Geordie Chapter Committee meeting
URL:https://geordiehog.com/events/committee-meeting-february-2022/
LOCATION:Nissan Sports and Leisure Complex\, Sunderland\, SR5 3NS\, United Kingdom
CATEGORIES:- Closed
END:VEVENT
BEGIN:VEVENT
DTSTART;TZID=Europe/London:20220303T190000
DTEND;TZID=Europe/London:20220303T210000
DTSTAMP:20260423T020131
CREATED:20211118T144748Z
LAST-MODIFIED:20211118T144748Z
UID:6374-1646334000-1646341200@geordiehog.com
SUMMARY:Chapter Meeting\, March 2022
DESCRIPTION:Keep up to date with what’s happening in the Chapter\, including ride-outs and social events. Keep an eye on our closed Facebook pages for more details.
URL:https://geordiehog.com/events/chapter-meeting-march-2022/
LOCATION:Nissan Sports and Leisure Complex\, Sunderland\, SR5 3NS\, United Kingdom
CATEGORIES:- Closed
END:VEVENT
BEGIN:VEVENT
DTSTART;TZID=Europe/London:20220317T190000
DTEND;TZID=Europe/London:20220317T210000
DTSTAMP:20260423T020131
CREATED:20211222T145135Z
LAST-MODIFIED:20211222T145231Z
UID:6500-1647543600-1647550800@geordiehog.com
SUMMARY:Committee Meeting\, March 2022
DESCRIPTION:Geordie Chapter Committee meeting
URL:https://geordiehog.com/events/committee-meeting-march-2022/
LOCATION:Nissan Sports and Leisure Complex\, Sunderland\, SR5 3NS\, United Kingdom
CATEGORIES:- Closed
END:VEVENT
BEGIN:VEVENT
DTSTART;TZID=Europe/London:20220407T190000
DTEND;TZID=Europe/London:20220407T210000
DTSTAMP:20260423T020131
CREATED:20211118T144645Z
LAST-MODIFIED:20211118T144823Z
UID:6375-1649358000-1649365200@geordiehog.com
SUMMARY:Chapter Meeting\, April 2022
DESCRIPTION:Keep up to date with what’s happening in the Chapter\, including ride-outs and social events. Keep an eye on our closed Facebook pages for more details.
URL:https://geordiehog.com/events/chapter-meeting-april-2022/
LOCATION:Nissan Sports and Leisure Complex\, Sunderland\, SR5 3NS\, United Kingdom
CATEGORIES:- Closed
END:VEVENT
BEGIN:VEVENT
DTSTART;TZID=Europe/London:20220421T190000
DTEND;TZID=Europe/London:20220421T210000
DTSTAMP:20260423T020131
CREATED:20211222T145137Z
LAST-MODIFIED:20211222T145230Z
UID:6501-1650567600-1650574800@geordiehog.com
SUMMARY:Committee Meeting\, April 2022
DESCRIPTION:Geordie Chapter Committee meeting
URL:https://geordiehog.com/events/committee-meeting-april-2022/
LOCATION:Nissan Sports and Leisure Complex\, Sunderland\, SR5 3NS\, United Kingdom
CATEGORIES:- Closed
END:VEVENT
BEGIN:VEVENT
DTSTART;TZID=Europe/London:20220505T190000
DTEND;TZID=Europe/London:20220505T210000
DTSTAMP:20260423T020131
CREATED:20211118T144719Z
LAST-MODIFIED:20211118T144743Z
UID:6378-1651777200-1651784400@geordiehog.com
SUMMARY:Chapter Meeting\, May 2022
DESCRIPTION:Keep up to date with what’s happening in the Chapter\, including ride-outs and social events. Keep an eye on our closed Facebook pages for more details.
URL:https://geordiehog.com/events/chapter-meeting-may-2022/
LOCATION:Nissan Sports and Leisure Complex\, Sunderland\, SR5 3NS\, United Kingdom
CATEGORIES:- Closed
END:VEVENT
BEGIN:VEVENT
DTSTART;TZID=Europe/London:20220519T190000
DTEND;TZID=Europe/London:20220519T210000
DTSTAMP:20260423T020131
CREATED:20211222T145139Z
LAST-MODIFIED:20211222T145227Z
UID:6502-1652986800-1652994000@geordiehog.com
SUMMARY:Committee Meeting\, May 2022
DESCRIPTION:Geordie Chapter Committee meeting
URL:https://geordiehog.com/events/committee-meeting-may-2022/
LOCATION:Nissan Sports and Leisure Complex\, Sunderland\, SR5 3NS\, United Kingdom
CATEGORIES:- Closed
END:VEVENT
BEGIN:VEVENT
DTSTART;TZID=Europe/London:20220602T190000
DTEND;TZID=Europe/London:20220602T210000
DTSTAMP:20260423T020131
CREATED:20211118T144741Z
LAST-MODIFIED:20211118T144837Z
UID:6379-1654196400-1654203600@geordiehog.com
SUMMARY:Chapter Meeting\, June 2022
DESCRIPTION:Keep up to date with what’s happening in the Chapter\, including ride-outs and social events. Keep an eye on our closed Facebook pages for more details.
URL:https://geordiehog.com/events/chapter-meeting-june-2022/
LOCATION:Nissan Sports and Leisure Complex\, Sunderland\, SR5 3NS\, United Kingdom
CATEGORIES:- Closed
END:VEVENT
BEGIN:VEVENT
DTSTART;TZID=Europe/London:20220616T190000
DTEND;TZID=Europe/London:20220616T210000
DTSTAMP:20260423T020131
CREATED:20211222T145142Z
LAST-MODIFIED:20211222T145224Z
UID:6503-1655406000-1655413200@geordiehog.com
SUMMARY:Committee Meeting\, June 2022
DESCRIPTION:Geordie Chapter Committee meeting
URL:https://geordiehog.com/events/committee-meeting-june-2022/
LOCATION:Nissan Sports and Leisure Complex\, Sunderland\, SR5 3NS\, United Kingdom
CATEGORIES:- Closed
END:VEVENT
BEGIN:VEVENT
DTSTART;TZID=Europe/London:20220707T190000
DTEND;TZID=Europe/London:20220707T210000
DTSTAMP:20260423T020131
CREATED:20211118T144739Z
LAST-MODIFIED:20211118T144847Z
UID:6380-1657220400-1657227600@geordiehog.com
SUMMARY:Chapter Meeting\, July 2022
DESCRIPTION:Keep up to date with what’s happening in the Chapter\, including ride-outs and social events. Keep an eye on our closed Facebook pages for more details.
URL:https://geordiehog.com/events/chapter-meeting-july-2022/
LOCATION:Nissan Sports and Leisure Complex\, Sunderland\, SR5 3NS\, United Kingdom
CATEGORIES:- Closed
END:VEVENT
BEGIN:VEVENT
DTSTART;TZID=Europe/London:20220721T190000
DTEND;TZID=Europe/London:20220721T210000
DTSTAMP:20260423T020131
CREATED:20211222T144657Z
LAST-MODIFIED:20211222T144657Z
UID:6486-1658430000-1658437200@geordiehog.com
SUMMARY:Committee Meeting\, July 2022
DESCRIPTION:Geordie Chapter Committee meeting
URL:https://geordiehog.com/events/committee-meeting-july-2022/
LOCATION:Nissan Sports and Leisure Complex\, Sunderland\, SR5 3NS\, United Kingdom
CATEGORIES:- Closed
END:VEVENT
BEGIN:VEVENT
DTSTART;TZID=Europe/London:20220818T190000
DTEND;TZID=Europe/London:20220818T210000
DTSTAMP:20260423T020131
CREATED:20211222T144704Z
LAST-MODIFIED:20211222T144704Z
UID:6491-1660849200-1660856400@geordiehog.com
SUMMARY:Committee Meeting\, August 2022
DESCRIPTION:Geordie Chapter Committee meeting
URL:https://geordiehog.com/events/committee-meeting-august-2022/
LOCATION:Nissan Sports and Leisure Complex\, Sunderland\, SR5 3NS\, United Kingdom
CATEGORIES:- Closed
END:VEVENT
BEGIN:VEVENT
DTSTART;TZID=Europe/London:20220901T190000
DTEND;TZID=Europe/London:20220901T210000
DTSTAMP:20260423T020131
CREATED:20211118T145354Z
LAST-MODIFIED:20211118T145354Z
UID:6387-1662058800-1662066000@geordiehog.com
SUMMARY:Chapter Meeting\, September 2022
DESCRIPTION:Keep up to date with what’s happening in the Chapter\, including ride-outs and social events. Keep an eye on our closed Facebook pages for more details.
URL:https://geordiehog.com/events/chapter-meeting-september-2022/
LOCATION:Nissan Sports and Leisure Complex\, Sunderland\, SR5 3NS\, United Kingdom
CATEGORIES:- Closed
END:VEVENT
BEGIN:VEVENT
DTSTART;TZID=Europe/London:20220915T190000
DTEND;TZID=Europe/London:20220915T210000
DTSTAMP:20260423T020131
CREATED:20211222T144709Z
LAST-MODIFIED:20211222T144709Z
UID:6490-1663268400-1663275600@geordiehog.com
SUMMARY:Committee Meeting\, September 2022
DESCRIPTION:Geordie Chapter Committee meeting
URL:https://geordiehog.com/events/committee-meeting-september-2022/
LOCATION:Nissan Sports and Leisure Complex\, Sunderland\, SR5 3NS\, United Kingdom
CATEGORIES:- Closed
END:VEVENT
BEGIN:VEVENT
DTSTART;TZID=Europe/London:20221006T190000
DTEND;TZID=Europe/London:20221006T210000
DTSTAMP:20260423T020131
CREATED:20211118T145353Z
LAST-MODIFIED:20211118T145353Z
UID:6388-1665082800-1665090000@geordiehog.com
SUMMARY:Chapter Meeting\, October 2022
DESCRIPTION:Keep up to date with what’s happening in the Chapter\, including ride-outs and social events. Keep an eye on our closed Facebook pages for more details.
URL:https://geordiehog.com/events/chapter-meeting-october-2022/
LOCATION:Nissan Sports and Leisure Complex\, Sunderland\, SR5 3NS\, United Kingdom
CATEGORIES:- Closed
END:VEVENT
BEGIN:VEVENT
DTSTART;TZID=Europe/London:20221020T190000
DTEND;TZID=Europe/London:20221020T210000
DTSTAMP:20260423T020131
CREATED:20211222T144713Z
LAST-MODIFIED:20211222T144713Z
UID:6489-1666292400-1666299600@geordiehog.com
SUMMARY:Committee Meeting\, October 2022
DESCRIPTION:Geordie Chapter Committee meeting
URL:https://geordiehog.com/events/committee-meeting-october-2022/
LOCATION:Nissan Sports and Leisure Complex\, Sunderland\, SR5 3NS\, United Kingdom
CATEGORIES:- Closed
END:VEVENT
BEGIN:VEVENT
DTSTART;TZID=Europe/London:20221103T190000
DTEND;TZID=Europe/London:20221103T210000
DTSTAMP:20260423T020131
CREATED:20211118T145351Z
LAST-MODIFIED:20211118T145351Z
UID:6389-1667502000-1667509200@geordiehog.com
SUMMARY:Chapter Meeting\, November 2022
DESCRIPTION:Keep up to date with what’s happening in the Chapter\, including ride-outs and social events. Keep an eye on our closed Facebook pages for more details.
URL:https://geordiehog.com/events/chapter-meeting-november-2022/
LOCATION:Nissan Sports and Leisure Complex\, Sunderland\, SR5 3NS\, United Kingdom
CATEGORIES:- Closed
END:VEVENT
BEGIN:VEVENT
DTSTART;TZID=Europe/London:20221117T190000
DTEND;TZID=Europe/London:20221117T210000
DTSTAMP:20260423T020131
CREATED:20211222T144719Z
LAST-MODIFIED:20211222T144719Z
UID:6488-1668711600-1668718800@geordiehog.com
SUMMARY:Committee Meeting\, November 2022
DESCRIPTION:Geordie Chapter Committee meeting
URL:https://geordiehog.com/events/committee-meeting-november-2022/
LOCATION:Nissan Sports and Leisure Complex\, Sunderland\, SR5 3NS\, United Kingdom
CATEGORIES:- Closed
END:VEVENT
BEGIN:VEVENT
DTSTART;TZID=Europe/London:20221201T190000
DTEND;TZID=Europe/London:20221201T210000
DTSTAMP:20260423T020131
CREATED:20211118T145349Z
LAST-MODIFIED:20211118T145349Z
UID:6390-1669921200-1669928400@geordiehog.com
SUMMARY:Chapter Meeting\, December 2022
DESCRIPTION:Keep up to date with what’s happening in the Chapter\, including ride-outs and social events. Keep an eye on our closed Facebook pages for more details.
URL:https://geordiehog.com/events/chapter-meeting-december-2022/
LOCATION:Nissan Sports and Leisure Complex\, Sunderland\, SR5 3NS\, United Kingdom
CATEGORIES:- Closed
END:VEVENT
BEGIN:VEVENT
DTSTART;TZID=Europe/London:20221210T190000
DTEND;TZID=Europe/London:20221210T233000
DTSTAMP:20260423T020131
CREATED:20220108T094102Z
LAST-MODIFIED:20220705T084209Z
UID:6585-1670698800-1670715000@geordiehog.com
SUMMARY:Chapter Christmas Party\, 2022
DESCRIPTION:Chapter Christmas meal\, with a fabulous night for everyone. \nHere’s the details …
URL:https://geordiehog.com/events/chapter-christmas-party-2022/
LOCATION:Nissan Sports and Leisure Complex\, Sunderland\, SR5 3NS\, United Kingdom
CATEGORIES:- Closed
END:VEVENT
BEGIN:VEVENT
DTSTART;TZID=Europe/London:20230520T080000
DTEND;TZID=Europe/London:20230520T170000
DTSTAMP:20260423T020131
CREATED:20230503T075131Z
LAST-MODIFIED:20230503T075131Z
UID:7292-1684569600-1684602000@geordiehog.com
SUMMARY:Gateshead Harley Ride day
DESCRIPTION:Gateshead Harley Ride day
URL:https://geordiehog.com/events/gateshead-harley-ride-day/
LOCATION:Gateshead Harley-Davidson\, Ellison Road\, Gateshead\, NE8 2QU\, United Kingdom
CATEGORIES:- Closed,- Member
END:VEVENT
BEGIN:VEVENT
DTSTART;TZID=Europe/London:20230521T080000
DTEND;TZID=Europe/London:20230521T170000
DTSTAMP:20260423T020131
CREATED:20230503T075226Z
LAST-MODIFIED:20230503T075226Z
UID:7294-1684656000-1684688400@geordiehog.com
SUMMARY:Borders Ride
DESCRIPTION:Borders ride to be led by Alen Wright.
URL:https://geordiehog.com/events/borders-ride-2/
CATEGORIES:- Closed,- Member
END:VEVENT
BEGIN:VEVENT
DTSTART;TZID=Europe/London:20230702T090000
DTEND;TZID=Europe/London:20230702T170000
DTSTAMP:20260423T020131
CREATED:20230503T075912Z
LAST-MODIFIED:20230503T102609Z
UID:7306-1688288400-1688317200@geordiehog.com
SUMMARY:American car show ride
DESCRIPTION:Planned ride out to the American car show at Ushaw.
URL:https://geordiehog.com/events/american-car-show-ride/
CATEGORIES:- Closed,- Member
END:VEVENT
END:VCALENDAR