BEGIN:VCALENDAR
VERSION:2.0
PRODID:-// - ECPv6.15.20//NONSGML v1.0//EN
CALSCALE:GREGORIAN
METHOD:PUBLISH
X-ORIGINAL-URL:https://geordiehog.com
X-WR-CALDESC:Events for 
REFRESH-INTERVAL;VALUE=DURATION:PT1H
X-Robots-Tag:noindex
X-PUBLISHED-TTL:PT1H
BEGIN:VTIMEZONE
TZID:Europe/London
BEGIN:DAYLIGHT
TZOFFSETFROM:+0000
TZOFFSETTO:+0100
TZNAME:BST
DTSTART:20200329T010000
END:DAYLIGHT
BEGIN:STANDARD
TZOFFSETFROM:+0100
TZOFFSETTO:+0000
TZNAME:GMT
DTSTART:20201025T010000
END:STANDARD
BEGIN:DAYLIGHT
TZOFFSETFROM:+0000
TZOFFSETTO:+0100
TZNAME:BST
DTSTART:20210328T010000
END:DAYLIGHT
BEGIN:STANDARD
TZOFFSETFROM:+0100
TZOFFSETTO:+0000
TZNAME:GMT
DTSTART:20211031T010000
END:STANDARD
BEGIN:DAYLIGHT
TZOFFSETFROM:+0000
TZOFFSETTO:+0100
TZNAME:BST
DTSTART:20220327T010000
END:DAYLIGHT
BEGIN:STANDARD
TZOFFSETFROM:+0100
TZOFFSETTO:+0000
TZNAME:GMT
DTSTART:20221030T010000
END:STANDARD
END:VTIMEZONE
BEGIN:VEVENT
DTSTART;TZID=Europe/London:20210115T190000
DTEND;TZID=Europe/London:20210115T210000
DTSTAMP:20260422T171203
CREATED:20210416T075638Z
LAST-MODIFIED:20210416T075638Z
UID:5644-1610737200-1610744400@geordiehog.com
SUMMARY:Chapter Meeting\, January 2021
DESCRIPTION:Keep up to date with what’s happening in the Chapter\, including ride-outs and social events. Everything is different during the COVID-19 restrictions. Keep an eye on our closed Facebook pages for more details. \nThe meeting is on Zoom and starts at 7:00 pm.
URL:https://geordiehog.com/events/chapter-meeting-january-2021/
LOCATION:Zoom
CATEGORIES:- Closed
END:VEVENT
BEGIN:VEVENT
DTSTART;TZID=Europe/London:20210129T190000
DTEND;TZID=Europe/London:20210129T210000
DTSTAMP:20260422T171203
CREATED:20210416T081801Z
LAST-MODIFIED:20210416T081801Z
UID:5662-1611946800-1611954000@geordiehog.com
SUMMARY:Committee Meeting\, January 2021
DESCRIPTION:Geordie Chapter Committee meeting. The meeting is on Zoom and starts at 7:00 pm.
URL:https://geordiehog.com/events/committee-meeting-january-2021/
LOCATION:Zoom
CATEGORIES:- Closed
END:VEVENT
END:VCALENDAR